BEGIN:VCALENDAR
VERSION:2.0
PRODID:-//RIGHTHERE//CALENDARIZE IT V3.2//EN
BEGIN:VTIMEZONE
TZID:America/Los_Angeles
X-MICROSOFT-CDO-TZID:13
BEGIN:STANDARD
DTSTART:20251102T090000
TZOFFSETFROM:-0700
TZOFFSETTO:-0800
TZNAME:PST
END:STANDARD
BEGIN:DAYLIGHT
DTSTART:20260308T100000
TZOFFSETFROM:-0800
TZOFFSETTO:-0700
TZNAME:PDT
END:DAYLIGHT
BEGIN:STANDARD
DTSTART:20261101T090000
TZOFFSETFROM:-0700
TZOFFSETTO:-0800
TZNAME:PST
END:STANDARD
END:VTIMEZONE
BEGIN:VEVENT
UID:4656-events@losaltosstage.org
DTSTART;TZID=America/Los_Angeles:20181129T200000
DTEND;TZID=America/Los_Angeles:20181129T220000
DTSTAMP;TZID=America/Los_Angeles:20180422T065738
SUMMARY:Woods
RRULE:FREQ=WEEKLY;INTERVAL=1;BYDAY=WE,TH,FR,SA;WKST=SU;UNTIL=20181222
EXDATE:20181203T030000Z,20181210T030000Z,20181217T030000Z,20181224T030000Z
RDATE;TZID=America/Los_Angeles:20181202T150000,20181209T150000,20181216T150
 000,20181222T150000,20181223T150000
URL:https://losaltosstage.org/events/woods/
END:VEVENT
END:VCALENDAR